{
 "currentVersion": 10.91,
 "serviceDescription": "County Basemap NAD83",
 "mapName": "Layers",
 "description": "",
 "copyrightText": "",
 "supportsDynamicLayers": true,
 "layers": [
  {
   "id": 0,
   "name": "ORTHO_2011",
   "parentLayerId": -1,
   "defaultVisibility": true,
   "subLayerIds": null,
   "minScale": 0,
   "maxScale": 0,
   "type": "Feature Layer",
   "geometryType": "esriGeometryPolygon"
  }
 ],
 "tables": [],
 "spatialReference": {
  "wkid": 102643,
  "latestWkid": 2227
 },
 "singleFusedMapCache": true,
 "tileInfo": {
  "rows": 256,
  "cols": 256,
  "dpi": 96,
  "format": "PNG",
  "compressionQuality": 0,
  "origin": {
   "x": -115860600,
   "y": 151575000
  },
  "spatialReference": {
   "wkid": 102643,
   "latestWkid": 2227
  },
  "lods": [
   {
    "level": 0,
    "resolution": 501.55430059809026,
    "scale": 577790.554289
   },
   {
    "level": 1,
    "resolution": 250.7771502986111,
    "scale": 288895.277144
   },
   {
    "level": 2,
    "resolution": 125.38857514930555,
    "scale": 144447.638572
   },
   {
    "level": 3,
    "resolution": 62.694287574652776,
    "scale": 72223.819286
   },
   {
    "level": 4,
    "resolution": 31.347143787326388,
    "scale": 36111.909643
   },
   {
    "level": 5,
    "resolution": 15.673571894097222,
    "scale": 18055.954822
   },
   {
    "level": 6,
    "resolution": 7.836785947048611,
    "scale": 9027.977411
   },
   {
    "level": 7,
    "resolution": 3.9183929730902776,
    "scale": 4513.988705
   },
   {
    "level": 8,
    "resolution": 1.9591964869791667,
    "scale": 2256.994353
   },
   {
    "level": 9,
    "resolution": 0.9795982430555555,
    "scale": 1128.497176
   },
   {
    "level": 10,
    "resolution": 0.48979912152777777,
    "scale": 564.248588
   }
  ]
 },
 "initialExtent": {
  "xmin": 5930199.657451338,
  "ymin": 1936961.146418006,
  "xmax": 6325926.000623231,
  "ymax": 2106486.5000201603,
  "spatialReference": {
   "wkid": 102643,
   "latestWkid": 2227
  }
 },
 "fullExtent": {
  "xmin": 5866028.86191296,
  "ymin": 1829754.6762876916,
  "xmax": 6212427.794914803,
  "ymax": 2147871.452516118,
  "spatialReference": {
   "wkid": 102643,
   "latestWkid": 2227
  }
 },
 "minScale": 577790.554289,
 "maxScale": 564.248588,
 "units": "esriFeet",
 "supportedImageFormatTypes": "PNG32,PNG24,PNG,JPG,DIB,TIFF,EMF,PS,PDF,GIF,SVG,SVGZ,BMP",
 "documentInfo": {
  "Title": "",
  "Author": "",
  "Comments": "County Basemap NAD83",
  "Subject": "County Basemap NAD83",
  "Category": "",
  "AntialiasingMode": "None",
  "TextAntialiasingMode": "Force",
  "Keywords": "San Mateo County Basemap NAD83"
 },
 "capabilities": "Map",
 "supportedQueryFormats": "JSON, geoJSON",
 "exportTilesAllowed": false,
 "referenceScale": 0,
 "supportsDatumTransformation": true,
 "maxRecordCount": 1000,
 "maxImageHeight": 4096,
 "maxImageWidth": 4096,
 "supportedExtensions": ""
}
