{
 "currentVersion": 11.1,
 "serviceDescription": "This Image Service describes the 0.50-foot pixel resolution digital orthoimagery produced for San Mateo, CA by the Sanborn Map Company. The orthoimagery provided is 4-band (R, G, B, NIR), 8-bit per pixel and delivered in section tiles in uncompressed TIFF/TFW, and ECW (20:1) format. The data was collected October 20th thru October 26th of 2016 at an altitude range between 9467and 10,400 feet using an UltraCam Eagle camera and complies with the American Society for Photogrammetry and Remote Sensing Accuracy Standards (ASPRS) for Class 1, large scale maps at 1\" = 100'. This orthoimagery is published in State_Plane_California_III_FIPS_0403_Feet NAD83(US Survey Feet). The vertical datum is National Geodetic Vertical Datum of 1988 GEOID12A",
 "name": "SanMateoCounty_NIR2017",
 "description": "This Image Service describes the 0.50-foot pixel resolution digital orthoimagery produced for San Mateo, CA by the Sanborn Map Company. The orthoimagery provided is 4-band (R, G, B, NIR), 8-bit per pixel and delivered in section tiles in uncompressed TIFF/TFW, and ECW (20:1) format. The data was collected October 20th thru October 26th of 2016 at an altitude range between 9467and 10,400 feet using an UltraCam Eagle camera and complies with the American Society for Photogrammetry and Remote Sensing Accuracy Standards (ASPRS) for Class 1, large scale maps at 1\" = 100'. This orthoimagery is published in State_Plane_California_III_FIPS_0403_Feet NAD83(US Survey Feet). The vertical datum is National Geodetic Vertical Datum of 1988 GEOID12A",
 "extent": {
  "xmin": 5971365.78888819,
  "ymin": 1864410.12791395,
  "xmax": 6103365.78888819,
  "ymax": 2088410.12791395,
  "spatialReference": {
   "wkid": 102643,
   "latestWkid": 2227
  }
 },
 "initialExtent": {
  "xmin": 5971365.78888819,
  "ymin": 1864410.12791395,
  "xmax": 6103365.78888819,
  "ymax": 2088410.12791395,
  "spatialReference": {
   "wkid": 102643,
   "latestWkid": 2227
  }
 },
 "fullExtent": {
  "xmin": 5971365.78888819,
  "ymin": 1864410.12791395,
  "xmax": 6103365.78888819,
  "ymax": 2088410.12791395,
  "spatialReference": {
   "wkid": 102643,
   "latestWkid": 2227
  }
 },
 "sortableFields": "",
 "bandCount": 4,
 "pixelType": "U8",
 "minValues": [
  14,
  14,
  13,
  9
 ],
 "maxValues": [
  244,
  245,
  246,
  251
 ],
 "meanValues": [
  87.65888643167675,
  87.10636645662265,
  79.52182442088905,
  146.71969271525165
 ],
 "stdvValues": [
  34.40761959458709,
  30.259286620200253,
  29.01852112499656,
  42.00411010508122
 ],
 "hasMultidimensions": false,
 "pixelSizeX": 0.5,
 "pixelSizeY": 0.5,
 "datasetFormat": "AMD",
 "uncompressedSize": 473088000000,
 "blockWidth": 2048,
 "blockHeight": 256,
 "compressionType": "None",
 "bandNames": [
  "Red",
  "Green",
  "Blue",
  "Infrared"
 ],
 "allowCopy": true,
 "allowAnalysis": true,
 "itemAccess": false,
 "minPixelSize": 0,
 "maxPixelSize": 0,
 "copyrightText": "San Mateo County GIS Team",
 "serviceDataType": "esriImageServiceDataTypeGeneric",
 "serviceSourceType": "esriImageServiceSourceTypeMosaicDataset",
 "objectIdField": "OBJECTID",
 "fields": [
  {
   "name": "OBJECTID",
   "type": "esriFieldTypeOID",
   "alias": "OBJECTID",
   "domain": null
  },
  {
   "name": "Shape",
   "type": "esriFieldTypeGeometry",
   "alias": "Shape",
   "domain": null
  },
  {
   "name": "Name",
   "type": "esriFieldTypeString",
   "alias": "Name",
   "domain": null,
   "length": 200
  },
  {
   "name": "MinPS",
   "type": "esriFieldTypeDouble",
   "alias": "MinPS",
   "domain": null
  },
  {
   "name": "MaxPS",
   "type": "esriFieldTypeDouble",
   "alias": "MaxPS",
   "domain": null
  },
  {
   "name": "LowPS",
   "type": "esriFieldTypeDouble",
   "alias": "LowPS",
   "domain": null
  },
  {
   "name": "HighPS",
   "type": "esriFieldTypeDouble",
   "alias": "HighPS",
   "domain": null
  },
  {
   "name": "Category",
   "type": "esriFieldTypeInteger",
   "alias": "Category",
   "domain": {
    "type": "codedValue",
    "name": "MosaicCatalogItemCategoryDomain",
    "description": "Catalog item categories.",
    "codedValues": [
     {
      "name": "Unknown",
      "code": 0
     },
     {
      "name": "Primary",
      "code": 1
     },
     {
      "name": "Overview",
      "code": 2
     },
     {
      "name": "Unprocessed Overview",
      "code": 3
     },
     {
      "name": "Partial Overview",
      "code": 4
     },
     {
      "name": "Inactive",
      "code": 5
     },
     {
      "name": "Uploaded",
      "code": 253
     },
     {
      "name": "Incomplete",
      "code": 254
     },
     {
      "name": "Custom",
      "code": 255
     }
    ],
    "mergePolicy": "esriMPTDefaultValue",
    "splitPolicy": "esriSPTDefaultValue"
   }
  },
  {
   "name": "Tag",
   "type": "esriFieldTypeString",
   "alias": "Tag",
   "domain": null,
   "length": 100
  },
  {
   "name": "GroupName",
   "type": "esriFieldTypeString",
   "alias": "GroupName",
   "domain": null,
   "length": 100
  },
  {
   "name": "ProductName",
   "type": "esriFieldTypeString",
   "alias": "ProductName",
   "domain": null,
   "length": 100
  },
  {
   "name": "CenterX",
   "type": "esriFieldTypeDouble",
   "alias": "CenterX",
   "domain": null
  },
  {
   "name": "CenterY",
   "type": "esriFieldTypeDouble",
   "alias": "CenterY",
   "domain": null
  },
  {
   "name": "ZOrder",
   "type": "esriFieldTypeInteger",
   "alias": "ZOrder",
   "domain": null
  },
  {
   "name": "Shape_Length",
   "type": "esriFieldTypeDouble",
   "alias": "Shape_Length",
   "domain": null
  },
  {
   "name": "Shape_Area",
   "type": "esriFieldTypeDouble",
   "alias": "Shape_Area",
   "domain": null
  }
 ],
 "capabilities": "Catalog,Download,Image,Metadata",
 "defaultMosaicMethod": "Northwest",
 "allowedMosaicMethods": "NorthWest,Center,LockRaster,ByAttribute,Nadir,Viewpoint,Seamline,None",
 "sortField": "",
 "sortValue": null,
 "sortAscending": true,
 "mosaicOperator": "First",
 "maxDownloadSizeLimit": 2048,
 "defaultCompressionQuality": 75,
 "defaultResamplingMethod": "Bilinear",
 "maxImageHeight": 4100,
 "maxImageWidth": 15000,
 "maxRecordCount": 1000,
 "maxDownloadImageCount": 20,
 "maxMosaicImageCount": 20,
 "allowRasterFunction": true,
 "rasterFunctionInfos": [
  {
   "name": "NIR_Function",
   "description": "A raster function template.",
   "help": ""
  },
  {
   "name": "None",
   "description": "A No-Op Function.",
   "help": ""
  }
 ],
 "rasterTypeInfos": [
  {
   "name": "Image Service",
   "description": "Supports ArcGIS image service",
   "help": ""
  },
  {
   "name": "Map Service",
   "description": "Supports ArcGIS map service",
   "help": ""
  },
  {
   "name": "Raster Dataset",
   "description": "Supports all ArcGIS Raster Datasets",
   "help": ""
  }
 ],
 "mensurationCapabilities": "None",
 "hasHistograms": true,
 "hasColormap": false,
 "hasRasterAttributeTable": false,
 "minScale": 0,
 "maxScale": 0,
 "exportTilesAllowed": false,
 "supportsStatistics": true,
 "supportsAdvancedQueries": true,
 "editFieldsInfo": null,
 "ownershipBasedAccessControlForRasters": null,
 "allowComputeTiePoints": false,
 "useStandardizedQueries": true,
 "advancedQueryCapabilities": {
  "useStandardizedQueries": true,
  "supportsStatistics": true,
  "supportsOrderBy": true,
  "supportsDistinct": true,
  "supportsPagination": true
 },
 "spatialReference": {
  "wkid": 102643,
  "latestWkid": 2227
 }
}
