View In:
ArcGIS JavaScript
ArcGIS Online Map Viewer
ArcGIS Earth
Service Description: This metadata record describes the 0.50-foot pixel resolution digital orthoimagery produced for San Mateo, CA by the Sanborn Map Company. The orthoimagery provided is 4-band (R, G, B, NIR), 8-bit per pixel and delivered in section tiles in uncompressed TIFF/TFW, and ECW (20:1) format. The data was collected October 20th thru October 26th of 2016 at an altitude range between 9467and 10,400 feet using an UltraCam Eagle camera and complies with the American Society for Photogrammetry and Remote Sensing Accuracy Standards (ASPRS) for Class 1, large scale maps at 1" = 100'. This orthoimagery is published in State_Plane_California_III_FIPS_0403_Feet NAD83(US Survey Feet). The vertical datum is National Geodetic Vertical Datum of 1988 GEOID12A
Name: SanMateoCounty_Imagery2017
Description: This metadata record describes the 0.50-foot pixel resolution digital orthoimagery produced for San Mateo, CA by the Sanborn Map Company. The orthoimagery provided is 4-band (R, G, B, NIR), 8-bit per pixel and delivered in section tiles in uncompressed TIFF/TFW, and ECW (20:1) format. The data was collected October 20th thru October 26th of 2016 at an altitude range between 9467and 10,400 feet using an UltraCam Eagle camera and complies with the American Society for Photogrammetry and Remote Sensing Accuracy Standards (ASPRS) for Class 1, large scale maps at 1" = 100'. This orthoimagery is published in State_Plane_California_III_FIPS_0403_Feet NAD83(US Survey Feet). The vertical datum is National Geodetic Vertical Datum of 1988 GEOID12A
Single Fused Map Cache: false
Extent:
XMin: 5971365.78888819
YMin: 1864410.12791395
XMax: 6103365.78888819
YMax: 2088410.12791395
Spatial Reference: 102643
(2227)
LatestVCSWkid(0)
Initial Extent:
XMin: 5971365.78888819
YMin: 1864410.12791395
XMax: 6103365.78888819
YMax: 2088410.12791395
Spatial Reference: 102643
(2227)
LatestVCSWkid(0)
Full Extent:
XMin: 5971365.78888819
YMin: 1864410.12791395
XMax: 6103365.78888819
YMax: 2088410.12791395
Spatial Reference: 102643
(2227)
LatestVCSWkid(0)
Pixel Size X: 0.5
Pixel Size Y: 0.5
Band Count: 4
Pixel Type: U8
RasterFunction Infos: {"rasterFunctionInfos": [{
"name": "None",
"description": "A No-Op Function.",
"help": ""
}]}
Mensuration Capabilities: None
Has Histograms: true
Has Colormap: false
Has Multi Dimensions : false
Rendering Rule:
Min Scale: 0
Max Scale: 0
Copyright Text:
Service Data Type: esriImageServiceDataTypeGeneric
Min Values: 14, 14, 13, 9
Max Values: 244, 245, 246, 251
Mean Values: 87.65888643167675, 87.10636645662265, 79.52182442088905, 146.71969271525165
Standard Deviation Values: 34.40761959458709, 30.259286620200253, 29.01852112499656, 42.00411010508122
Object ID Field: OBJECTID
Fields:
-
OBJECTID
(
type: esriFieldTypeOID, alias: OBJECTID
)
-
Shape
(
type: esriFieldTypeGeometry, alias: Shape
)
-
Name
(
type: esriFieldTypeString, alias: Name, length: 200
)
-
MinPS
(
type: esriFieldTypeDouble, alias: MinPS
)
-
MaxPS
(
type: esriFieldTypeDouble, alias: MaxPS
)
-
LowPS
(
type: esriFieldTypeDouble, alias: LowPS
)
-
HighPS
(
type: esriFieldTypeDouble, alias: HighPS
)
-
Category
(
type: esriFieldTypeInteger, alias: Category
, Coded Values:
[0: Unknown]
, [1: Primary]
, [2: Overview]
, ...6 more...
)
-
Tag
(
type: esriFieldTypeString, alias: Tag, length: 100
)
-
GroupName
(
type: esriFieldTypeString, alias: GroupName, length: 100
)
-
ProductName
(
type: esriFieldTypeString, alias: ProductName, length: 100
)
-
CenterX
(
type: esriFieldTypeDouble, alias: CenterX
)
-
CenterY
(
type: esriFieldTypeDouble, alias: CenterY
)
-
ZOrder
(
type: esriFieldTypeInteger, alias: ZOrder
)
-
Shape_Length
(
type: esriFieldTypeDouble, alias: Shape_Length
)
-
Shape_Area
(
type: esriFieldTypeDouble, alias: Shape_Area
)
Default Mosaic Method: Northwest
Allowed Mosaic Methods: NorthWest,Center,LockRaster,ByAttribute,Nadir,Viewpoint,Seamline,None
SortField:
SortValue: null
Mosaic Operator: First
Default Compression Quality: 75
Default Resampling Method: Bilinear
Max Record Count: 1000
Max Image Height: 4100
Max Image Width: 15000
Max Download Image Count: 20
Max Mosaic Image Count: 20
Allow Raster Function: true
Allow Copy: true
Allow Analysis: true
Allow Compute TiePoints: false
Supports Statistics: true
Supports Advanced Queries: true
Use StandardizedQueries: true
Raster Type Infos:
Name: Image Service
Description: Supports ArcGIS image service
Help:
Name: Map Service
Description: Supports ArcGIS map service
Help:
Name: Raster Dataset
Description: Supports all ArcGIS Raster Datasets
Help:
Has Raster Attribute Table: false
Edit Fields Info: null
Ownership Based AccessControl For Rasters: null
Child Resources:
Info
Histograms
Statistics
Key Properties
Legend
Raster Function Infos
Supported Operations:
Export Image
Query
Identify
Download Rasters
Compute Histograms
Compute Statistics Histograms
Get Samples
Compute Class Statistics
Query Boundary
Compute Pixel Location
Compute Angles
Validate
Project