View In:
ArcGIS JavaScript
ArcGIS Online Map Viewer
ArcGIS Earth
Service Description: This dataset represents a tiled, true-color and near-infrared orthophoto mosaic (4-band) of the Marin County Imagery study area located in Marin County, San Mateo County and San Francisco County, CA. The data is projected in California State Plane Zone 3, the horizontal datum is NAD83(2011) and units are US survey feet. The acquisition flight parameters were designed to yield a native pixel resolution of less than or equal to 0.5 ft. The aerial imagery was collected between 6/13/2018 and 6/23/2018 for the Golden Gate National Parks Conservancy
Name: SanMateoCounty_Imagery2018
Description: This dataset represents a tiled, true-color and near-infrared orthophoto mosaic (4-band) of the Marin County Imagery study area located in Marin County, San Mateo County and San Francisco County, CA. The data is projected in California State Plane Zone 3, the horizontal datum is NAD83(2011) and units are US survey feet. The acquisition flight parameters were designed to yield a native pixel resolution of less than or equal to 0.5 ft. The aerial imagery was collected between 6/13/2018 and 6/23/2018 for the Golden Gate National Parks Conservancy
Single Fused Map Cache: false
Extent:
XMin: 5975208.000140727
YMin: 1865662.9998416489
XMax: 6096000.500140727
YMax: 2087999.9998416489
Spatial Reference: 102643
(2227)
LatestVCSWkid(0)
Initial Extent:
XMin: 5975208.000140727
YMin: 1865662.9998416489
XMax: 6096000.500140727
YMax: 2087999.9998416489
Spatial Reference: 102643
(2227)
LatestVCSWkid(0)
Full Extent:
XMin: 5975208.000140727
YMin: 1865662.9998416489
XMax: 6096000.500140727
YMax: 2087999.9998416489
Spatial Reference: 102643
(2227)
LatestVCSWkid(0)
Pixel Size X: 0.5
Pixel Size Y: 0.5
Band Count: 4
Pixel Type: U16
RasterFunction Infos: {"rasterFunctionInfos": [{
"name": "None",
"description": "A No-Op Function.",
"help": ""
}]}
Mensuration Capabilities: None
Has Histograms: true
Has Colormap: false
Has Multi Dimensions : false
Rendering Rule:
Min Scale: 0
Max Scale: 0
Copyright Text: Golden Gate National Parks Conservancy and San Mateo County
Service Data Type: esriImageServiceDataTypeGeneric
Min Values: 1266, 2830, 6763, 7369
Max Values: 64253, 63950, 63858, 64661
Mean Values: 22355.917896992767, 22101.497442577533, 20593.123585204845, 37163.41684652087
Standard Deviation Values: 8871.697157584684, 7689.767669671629, 7528.341786129267, 8144.628006222498
Object ID Field: OBJECTID
Fields:
-
OBJECTID
(
type: esriFieldTypeOID, alias: OBJECTID
)
-
Shape
(
type: esriFieldTypeGeometry, alias: Shape
)
-
Name
(
type: esriFieldTypeString, alias: Name, length: 200
)
-
MinPS
(
type: esriFieldTypeDouble, alias: MinPS
)
-
MaxPS
(
type: esriFieldTypeDouble, alias: MaxPS
)
-
LowPS
(
type: esriFieldTypeDouble, alias: LowPS
)
-
HighPS
(
type: esriFieldTypeDouble, alias: HighPS
)
-
Category
(
type: esriFieldTypeInteger, alias: Category
, Coded Values:
[0: Unknown]
, [1: Primary]
, [2: Overview]
, ...6 more...
)
-
Tag
(
type: esriFieldTypeString, alias: Tag, length: 100
)
-
GroupName
(
type: esriFieldTypeString, alias: GroupName, length: 100
)
-
ProductName
(
type: esriFieldTypeString, alias: ProductName, length: 100
)
-
CenterX
(
type: esriFieldTypeDouble, alias: CenterX
)
-
CenterY
(
type: esriFieldTypeDouble, alias: CenterY
)
-
ZOrder
(
type: esriFieldTypeInteger, alias: ZOrder
)
-
Shape_Length
(
type: esriFieldTypeDouble, alias: Shape_Length
)
-
Shape_Area
(
type: esriFieldTypeDouble, alias: Shape_Area
)
Default Mosaic Method: Northwest
Allowed Mosaic Methods: NorthWest,Center,LockRaster,ByAttribute,Nadir,Viewpoint,Seamline,None
SortField:
SortValue: null
Mosaic Operator: First
Default Compression Quality: 75
Default Resampling Method: Bilinear
Max Record Count: 1000
Max Image Height: 4100
Max Image Width: 15000
Max Download Image Count: 20
Max Mosaic Image Count: 20
Allow Raster Function: true
Allow Copy: true
Allow Analysis: true
Allow Compute TiePoints: false
Supports Statistics: true
Supports Advanced Queries: true
Use StandardizedQueries: true
Raster Type Infos:
Name: Image Service
Description: Supports ArcGIS image service
Help:
Name: Map Service
Description: Supports ArcGIS map service
Help:
Name: Raster Dataset
Description: Supports all ArcGIS Raster Datasets
Help:
Has Raster Attribute Table: false
Edit Fields Info: null
Ownership Based AccessControl For Rasters: null
Child Resources:
Info
Histograms
Statistics
Key Properties
Legend
Raster Function Infos
Supported Operations:
Export Image
Query
Identify
Download Rasters
Compute Histograms
Compute Statistics Histograms
Get Samples
Compute Class Statistics
Query Boundary
Compute Pixel Location
Compute Angles
Validate
Project